Package: tidySingleCellExperiment Version: 1.19.1 Command: rm -rf tidySingleCellExperiment.buildbin-libdir && mkdir tidySingleCellExperiment.buildbin-libdir && /Users/biocbuild/BBS/utils/build-universal.sh tidySingleCellExperiment_1.19.1.tar.gz /Library/Frameworks/R.framework/Resources/bin/R tidySingleCellExperiment.buildbin-libdir StartedAt: 2025-10-25 02:08:34 -0400 (Sat, 25 Oct 2025) EndedAt: 2025-10-25 02:09:17 -0400 (Sat, 25 Oct 2025) EllapsedTime: 42.8 seconds RetCode: 0 Status: OK PackageFile: tidySingleCellExperiment_1.19.1.tgz PackageFileSize: 2.123 MiB