Package: tidySingleCellExperiment Version: 1.19.1 Command: /Library/Frameworks/R.framework/Resources/bin/R CMD INSTALL tidySingleCellExperiment StartedAt: 2025-10-24 15:15:10 -0400 (Fri, 24 Oct 2025) EndedAt: 2025-10-24 15:15:22 -0400 (Fri, 24 Oct 2025) EllapsedTime: 12.1 seconds RetCode: 0 Status: OK