Package: tidySingleCellExperiment Version: 1.20.0 Maintainer: Stefano Mangiola MaintainerEmail: mangiolastefano at gmail.com git_url: https://git.bioconductor.org/packages/tidySingleCellExperiment git_branch: RELEASE_3_22 git_last_commit: fe23184 git_last_commit_date: 2025-10-29 11:04:16 -0500 (Wed, 29 Oct 2025)