Package: tidyFlowCore Version: 1.3.0 Command: /home/biocbuild/bbs-3.22-bioc/R/bin/R CMD build --keep-empty-dirs --no-resave-data --md5 tidyFlowCore StartedAt: 2025-10-24 20:38:44 -0400 (Fri, 24 Oct 2025) EndedAt: 2025-10-24 20:39:38 -0400 (Fri, 24 Oct 2025) EllapsedTime: 54.1 seconds RetCode: 0 Status: OK PackageFile: tidyFlowCore_1.3.0.tar.gz PackageFileSize: 786.9 KiB