Package: tidyFlowCore Version: 1.4.0 Command: /Library/Frameworks/R.framework/Resources/bin/R CMD build --keep-empty-dirs --no-resave-data tidyFlowCore StartedAt: 2025-11-18 02:54:35 -0500 (Tue, 18 Nov 2025) EndedAt: 2025-11-18 02:56:53 -0500 (Tue, 18 Nov 2025) EllapsedTime: 137.6 seconds RetCode: 0 Status: OK PackageFile: tidyFlowCore_1.4.0.tar.gz PackageFileSize: 776.1 KiB