Package: tidyFlowCore Version: 1.4.0 Command: rm -rf tidyFlowCore.buildbin-libdir && mkdir tidyFlowCore.buildbin-libdir && /Users/biocbuild/BBS/utils/build-universal.sh tidyFlowCore_1.4.0.tar.gz /Library/Frameworks/R.framework/Resources/bin/R tidyFlowCore.buildbin-libdir StartedAt: 2025-11-18 18:44:48 -0500 (Tue, 18 Nov 2025) EndedAt: 2025-11-18 18:45:12 -0500 (Tue, 18 Nov 2025) EllapsedTime: 23.1 seconds RetCode: 0 Status: OK PackageFile: tidyFlowCore_1.4.0.tgz PackageFileSize: 919.7 KiB