Package: tidyFlowCore Version: 1.3.0 Command: /Library/Frameworks/R.framework/Resources/bin/R CMD INSTALL tidyFlowCore StartedAt: 2025-10-27 15:13:55 -0400 (Mon, 27 Oct 2025) EndedAt: 2025-10-27 15:14:15 -0400 (Mon, 27 Oct 2025) EllapsedTime: 19.6 seconds RetCode: 0 Status: OK