Package: tidyFlowCore Version: 1.3.0 Command: /Library/Frameworks/R.framework/Resources/bin/R CMD build --keep-empty-dirs --no-resave-data tidyFlowCore StartedAt: 2025-10-27 18:57:34 -0400 (Mon, 27 Oct 2025) EndedAt: 2025-10-27 18:58:41 -0400 (Mon, 27 Oct 2025) EllapsedTime: 67.2 seconds RetCode: 0 Status: OK PackageFile: tidyFlowCore_1.3.0.tar.gz PackageFileSize: 776.1 KiB