Package: tidyFlowCore Version: 1.3.0 Command: /Library/Frameworks/R.framework/Resources/bin/R CMD INSTALL tidyFlowCore StartedAt: 2025-10-28 15:07:36 -0400 (Tue, 28 Oct 2025) EndedAt: 2025-10-28 15:07:40 -0400 (Tue, 28 Oct 2025) EllapsedTime: 4.6 seconds RetCode: 0 Status: OK