Package: tidyFlowCore Version: 1.4.0 Command: /Library/Frameworks/R.framework/Resources/bin/R CMD check --install=check:tidyFlowCore.install-out.txt --library=/Library/Frameworks/R.framework/Resources/library --no-vignettes --timings tidyFlowCore_1.4.0.tar.gz StartedAt: 2025-11-06 22:31:31 -0500 (Thu, 06 Nov 2025) EndedAt: 2025-11-06 22:32:09 -0500 (Thu, 06 Nov 2025) EllapsedTime: 37.5 seconds RetCode: 0 Status: OK CheckDir: tidyFlowCore.Rcheck Warnings: 0