Package: tidyFlowCore Version: 1.4.0 Command: /Library/Frameworks/R.framework/Resources/bin/R CMD build --keep-empty-dirs --no-resave-data tidyFlowCore StartedAt: 2025-11-18 01:48:25 -0500 (Tue, 18 Nov 2025) EndedAt: 2025-11-18 01:48:57 -0500 (Tue, 18 Nov 2025) EllapsedTime: 32.3 seconds RetCode: 0 Status: OK PackageFile: tidyFlowCore_1.4.0.tar.gz PackageFileSize: 780.3 KiB