Package: tidyCoverage Version: 1.5.0 Command: /home/biocbuild/R/R/bin/R CMD build --keep-empty-dirs --no-resave-data tidyCoverage StartedAt: 2025-10-21 03:43:10 -0000 (Tue, 21 Oct 2025) EndedAt: 2025-10-21 03:47:26 -0000 (Tue, 21 Oct 2025) EllapsedTime: 256.1 seconds RetCode: 0 Status: OK PackageFile: tidyCoverage_1.5.0.tar.gz PackageFileSize: 3.795 MiB