Package: tidyCoverage Version: 1.5.0 Command: /Library/Frameworks/R.framework/Resources/bin/R CMD build --keep-empty-dirs --no-resave-data tidyCoverage StartedAt: 2025-10-26 18:13:26 -0400 (Sun, 26 Oct 2025) EndedAt: 2025-10-26 18:14:37 -0400 (Sun, 26 Oct 2025) EllapsedTime: 70.8 seconds RetCode: 0 Status: OK PackageFile: tidyCoverage_1.5.0.tar.gz PackageFileSize: 3.898 MiB