Package: terraTCGAdata Version: 1.14.0 Command: /home/biocbuild/bbs-3.22-bioc/R/bin/R CMD INSTALL terraTCGAdata StartedAt: 2025-11-14 15:46:43 -0500 (Fri, 14 Nov 2025) EndedAt: 2025-11-14 15:47:09 -0500 (Fri, 14 Nov 2025) EllapsedTime: 25.5 seconds RetCode: 0 Status: OK