Package: tRNAscanImport Version: 1.30.0 Command: /home/biocbuild/bbs-3.22-bioc/R/bin/R CMD INSTALL tRNAscanImport StartedAt: 2025-10-30 15:39:23 -0400 (Thu, 30 Oct 2025) EndedAt: 2025-10-30 15:40:00 -0400 (Thu, 30 Oct 2025) EllapsedTime: 36.5 seconds RetCode: 0 Status: OK