Package: tRNAscanImport Version: 1.30.0 Command: /home/biocbuild/bbs-3.22-bioc/R/bin/R CMD build --keep-empty-dirs --no-resave-data --md5 tRNAscanImport StartedAt: 2025-10-30 20:37:57 -0400 (Thu, 30 Oct 2025) EndedAt: 2025-10-30 20:39:36 -0400 (Thu, 30 Oct 2025) EllapsedTime: 99.1 seconds RetCode: 0 Status: OK PackageFile: tRNAscanImport_1.30.0.tar.gz PackageFileSize: 850.1 KiB