Package: tRNAdbImport Version: 1.27.0 Command: /home/biocbuild/bbs-3.22-bioc/R/bin/R CMD INSTALL tRNAdbImport StartedAt: 2025-10-27 15:40:37 -0400 (Mon, 27 Oct 2025) EndedAt: 2025-10-27 15:40:52 -0400 (Mon, 27 Oct 2025) EllapsedTime: 14.2 seconds RetCode: 0 Status: OK