Package: tRNA Version: 1.28.0 Command: /home/biocbuild/bbs-3.22-bioc/R/bin/R CMD INSTALL tRNA StartedAt: 2025-11-06 15:38:07 -0500 (Thu, 06 Nov 2025) EndedAt: 2025-11-06 15:38:24 -0500 (Thu, 06 Nov 2025) EllapsedTime: 16.2 seconds RetCode: 0 Status: OK