Package: tRNA Version: 1.28.0 Command: /home/biocbuild/bbs-3.22-bioc/R/bin/R CMD build --keep-empty-dirs --no-resave-data --md5 tRNA StartedAt: 2025-11-06 20:36:40 -0500 (Thu, 06 Nov 2025) EndedAt: 2025-11-06 20:39:10 -0500 (Thu, 06 Nov 2025) EllapsedTime: 150.1 seconds RetCode: 0 Status: OK PackageFile: tRNA_1.28.0.tar.gz PackageFileSize: 1.238 MiB