Package: systemPipeTools Version: 1.18.0 Command: /home/biocbuild/R/R/bin/R CMD INSTALL systemPipeTools StartedAt: 2025-11-13 21:27:21 -0000 (Thu, 13 Nov 2025) EndedAt: 2025-11-13 21:27:55 -0000 (Thu, 13 Nov 2025) EllapsedTime: 33.7 seconds RetCode: 0 Status: OK