Package: systemPipeTools Version: 1.18.0 Command: /home/biocbuild/R/R/bin/R CMD build --keep-empty-dirs --no-resave-data systemPipeTools StartedAt: 2025-11-14 05:53:46 -0000 (Fri, 14 Nov 2025) EndedAt: 2025-11-14 05:55:15 -0000 (Fri, 14 Nov 2025) EllapsedTime: 89.1 seconds RetCode: 0 Status: OK PackageFile: systemPipeTools_1.18.0.tar.gz PackageFileSize: 721.8 KiB