Package: systemPipeTools Version: 1.18.0 Command: /home/biocbuild/bbs-3.22-bioc/R/bin/R CMD check --install=check:systemPipeTools.install-out.txt --library=/home/biocbuild/bbs-3.22-bioc/R/site-library --timings systemPipeTools_1.18.0.tar.gz StartedAt: 2025-11-26 05:14:14 -0500 (Wed, 26 Nov 2025) EndedAt: 2025-11-26 05:19:09 -0500 (Wed, 26 Nov 2025) EllapsedTime: 294.4 seconds RetCode: 0 Status: WARNINGS CheckDir: systemPipeTools.Rcheck Warnings: 1