Package: systemPipeTools Version: 1.17.0 Command: /Library/Frameworks/R.framework/Resources/bin/R CMD build --keep-empty-dirs --no-resave-data systemPipeTools StartedAt: 2025-10-24 19:01:41 -0400 (Fri, 24 Oct 2025) EndedAt: 2025-10-24 19:02:53 -0400 (Fri, 24 Oct 2025) EllapsedTime: 72.0 seconds RetCode: 0 Status: OK PackageFile: systemPipeTools_1.17.0.tar.gz PackageFileSize: 1004 KiB