Package: systemPipeShiny Version: 1.20.0 Command: rm -rf systemPipeShiny.buildbin-libdir && mkdir systemPipeShiny.buildbin-libdir && /Users/biocbuild/BBS/utils/build-universal.sh systemPipeShiny_1.20.0.tar.gz /Library/Frameworks/R.framework/Resources/bin/R systemPipeShiny.buildbin-libdir StartedAt: 2025-11-04 02:07:58 -0500 (Tue, 04 Nov 2025) EndedAt: 2025-11-04 02:08:22 -0500 (Tue, 04 Nov 2025) EllapsedTime: 24.4 seconds RetCode: 0 Status: OK PackageFile: systemPipeShiny_1.20.0.tgz PackageFileSize: 3.58 MiB