Package: systemPipeShiny Version: 1.20.0 Command: /Library/Frameworks/R.framework/Resources/bin/R CMD INSTALL systemPipeShiny StartedAt: 2025-10-31 15:09:03 -0400 (Fri, 31 Oct 2025) EndedAt: 2025-10-31 15:09:09 -0400 (Fri, 31 Oct 2025) EllapsedTime: 5.4 seconds RetCode: 0 Status: OK