Package: systemPipeShiny Version: 1.20.0 Command: /Library/Frameworks/R.framework/Resources/bin/R CMD build --keep-empty-dirs --no-resave-data systemPipeShiny StartedAt: 2025-10-31 18:00:32 -0400 (Fri, 31 Oct 2025) EndedAt: 2025-10-31 18:00:43 -0400 (Fri, 31 Oct 2025) EllapsedTime: 11.1 seconds RetCode: 0 Status: OK PackageFile: systemPipeShiny_1.20.0.tar.gz PackageFileSize: 4.308 MiB