Package: systemPipeShiny Version: 1.20.0 Command: rm -rf systemPipeShiny.buildbin-libdir && mkdir systemPipeShiny.buildbin-libdir && /Users/biocbuild/BBS/utils/build-universal.sh systemPipeShiny_1.20.0.tar.gz /Library/Frameworks/R.framework/Resources/bin/R systemPipeShiny.buildbin-libdir StartedAt: 2025-10-31 23:26:03 -0400 (Fri, 31 Oct 2025) EndedAt: 2025-10-31 23:26:10 -0400 (Fri, 31 Oct 2025) EllapsedTime: 7.2 seconds RetCode: 0 Status: OK PackageFile: systemPipeShiny_1.20.0.tgz PackageFileSize: 3.581 MiB