Package: systemPipeShiny Version: 1.20.0 Command: /Library/Frameworks/R.framework/Resources/bin/R CMD build --keep-empty-dirs --no-resave-data systemPipeShiny StartedAt: 2025-11-18 01:42:33 -0500 (Tue, 18 Nov 2025) EndedAt: 2025-11-18 01:42:49 -0500 (Tue, 18 Nov 2025) EllapsedTime: 16.2 seconds RetCode: 0 Status: OK PackageFile: systemPipeShiny_1.20.0.tar.gz PackageFileSize: 4.308 MiB