Package: systemPipeShiny Version: 1.20.0 Command: rm -rf systemPipeShiny.buildbin-libdir && mkdir systemPipeShiny.buildbin-libdir && /Users/biocbuild/BBS/utils/build-universal.sh systemPipeShiny_1.20.0.tar.gz /Library/Frameworks/R.framework/Resources/bin/R systemPipeShiny.buildbin-libdir StartedAt: 2025-11-18 16:31:35 -0500 (Tue, 18 Nov 2025) EndedAt: 2025-11-18 16:31:43 -0500 (Tue, 18 Nov 2025) EllapsedTime: 8.1 seconds RetCode: 0 Status: OK PackageFile: systemPipeShiny_1.20.0.tgz PackageFileSize: 3.581 MiB