Package: systemPipeR Version: 2.16.0 Command: /Library/Frameworks/R.framework/Resources/bin/R CMD INSTALL systemPipeR StartedAt: 2025-11-03 15:46:58 -0500 (Mon, 03 Nov 2025) EndedAt: 2025-11-03 15:48:04 -0500 (Mon, 03 Nov 2025) EllapsedTime: 66.1 seconds RetCode: 0 Status: OK