Package: systemPipeR Version: 2.16.0 Command: /Library/Frameworks/R.framework/Resources/bin/R CMD build --keep-empty-dirs --no-resave-data systemPipeR StartedAt: 2025-11-03 19:02:40 -0500 (Mon, 03 Nov 2025) EndedAt: 2025-11-03 19:04:30 -0500 (Mon, 03 Nov 2025) EllapsedTime: 109.6 seconds RetCode: 0 Status: OK PackageFile: systemPipeR_2.16.0.tar.gz PackageFileSize: 6.497 MiB