Package: systemPipeR Version: 2.16.0 Command: rm -rf systemPipeR.buildbin-libdir && mkdir systemPipeR.buildbin-libdir && /Users/biocbuild/BBS/utils/build-universal.sh systemPipeR_2.16.0.tar.gz /Library/Frameworks/R.framework/Resources/bin/R systemPipeR.buildbin-libdir StartedAt: 2025-11-04 02:07:58 -0500 (Tue, 04 Nov 2025) EndedAt: 2025-11-04 02:09:08 -0500 (Tue, 04 Nov 2025) EllapsedTime: 70.4 seconds RetCode: 0 Status: OK PackageFile: systemPipeR_2.16.0.tgz PackageFileSize: 6.286 MiB