Package: systemPipeR Version: 2.15.2 Command: /Library/Frameworks/R.framework/Resources/bin/R CMD INSTALL systemPipeR StartedAt: 2025-10-28 15:27:14 -0400 (Tue, 28 Oct 2025) EndedAt: 2025-10-28 15:27:33 -0400 (Tue, 28 Oct 2025) EllapsedTime: 18.6 seconds RetCode: 0 Status: OK