Package: systemPipeR Version: 2.15.2 Command: /Library/Frameworks/R.framework/Resources/bin/R CMD build --keep-empty-dirs --no-resave-data systemPipeR StartedAt: 2025-10-28 17:55:34 -0400 (Tue, 28 Oct 2025) EndedAt: 2025-10-28 17:56:10 -0400 (Tue, 28 Oct 2025) EllapsedTime: 36.4 seconds RetCode: 0 Status: OK PackageFile: systemPipeR_2.15.2.tar.gz PackageFileSize: 6.498 MiB