Back to Build/check report for BioC 3.22:   simplified   long
ABCDEFGHIJKLMNOPQR[S]TUVWXYZ

This page was generated on 2025-10-27 12:45 -0400 (Mon, 27 Oct 2025).

HostnameOSArch (*)R versionInstalled pkgs
kjohnson3macOS 13.7.7 Venturaarm644.5.1 Patched (2025-09-10 r88807) -- "Great Square Root" 4637
Click on any hostname to see more info about the system (e.g. compilers)      (*) as reported by 'uname -p', except on Windows and Mac OS X

All results for package syntenet


To the developers/maintainers of the syntenet package:
- Allow up to 24 hours (and sometimes 48 hours) for your latest push to git@git.bioconductor.org:packages/syntenet.git to reflect on this report. See Troubleshooting Build Report for more information.
- Use the following Renviron settings to reproduce errors and warnings.
- If 'R CMD check' started to fail recently on the Linux builder(s) over a missing dependency, add the missing dependency to 'Suggests:' in your DESCRIPTION file. See Renviron.bioc for more information.

raw results

Package 2175/2361HostnameOS / ArchINSTALLBUILDCHECKBUILD BIN
syntenet 1.11.2  (landing page)
Fabrício Almeida-Silva
Snapshot Date: 2025-10-26 13:45 -0400 (Sun, 26 Oct 2025)
git_url: https://git.bioconductor.org/packages/syntenet
git_branch: devel
git_last_commit: 1607c7f
git_last_commit_date: 2025-07-23 07:35:59 -0400 (Wed, 23 Jul 2025)
kjohnson3macOS 13.7.7 Ventura / arm64  OK    OK    OK    OK  UNNEEDED, same version is already published



Results for Bioconductor software packages that depend directly on package syntenet

QUICK STATSOS / ArchINSTALLBUILDCHECKBUILD BIN
kjohnson3macOS 13.7.7 Ventura / arm64
001
001
0001
001
Package 1/1HostnameOS / ArchINSTALLBUILDCHECKBUILD BIN
doubletrouble 1.9.1  (landing page)
Fabrício Almeida-Silva
git_last_commit: d42073e
git_last_commit_date: 2025-07-23 13:43:20 -0400
kjohnson3macOS 13.7.7 Ventura / arm64  OK    OK    OK    OK  UNNEEDED, same version is already published