Package: synapsis Version: 1.16.0 Command: /home/biocbuild/bbs-3.22-bioc/R/bin/R CMD INSTALL synapsis StartedAt: 2025-11-17 17:14:11 -0500 (Mon, 17 Nov 2025) EndedAt: 2025-11-17 17:14:15 -0500 (Mon, 17 Nov 2025) EllapsedTime: 4.0 seconds RetCode: 0 Status: OK