Package: switchde Version: 1.36.0 Command: /home/biocbuild/bbs-3.22-bioc/R/bin/R CMD build --keep-empty-dirs --no-resave-data --md5 switchde StartedAt: 2025-11-02 20:41:40 -0500 (Sun, 02 Nov 2025) EndedAt: 2025-11-02 20:42:21 -0500 (Sun, 02 Nov 2025) EllapsedTime: 41.0 seconds RetCode: 0 Status: OK PackageFile: switchde_1.36.0.tar.gz PackageFileSize: 1007 KiB