Package: switchBox Version: 1.46.0 Command: /Library/Frameworks/R.framework/Resources/bin/R CMD build --keep-empty-dirs --no-resave-data switchBox StartedAt: 2025-11-21 00:19:46 -0500 (Fri, 21 Nov 2025) EndedAt: 2025-11-21 00:20:15 -0500 (Fri, 21 Nov 2025) EllapsedTime: 29.3 seconds RetCode: 0 Status: OK PackageFile: switchBox_1.46.0.tar.gz PackageFileSize: 469.5 KiB