Package: switchBox Version: 1.46.0 Command: /Library/Frameworks/R.framework/Resources/bin/R CMD build --keep-empty-dirs --no-resave-data switchBox StartedAt: 2025-11-03 19:02:03 -0500 (Mon, 03 Nov 2025) EndedAt: 2025-11-03 19:02:20 -0500 (Mon, 03 Nov 2025) EllapsedTime: 17.0 seconds RetCode: 0 Status: OK PackageFile: switchBox_1.46.0.tar.gz PackageFileSize: 469.4 KiB