Package: switchBox Version: 1.45.0 Command: /Library/Frameworks/R.framework/Resources/bin/R CMD INSTALL switchBox StartedAt: 2025-10-26 15:02:15 -0400 (Sun, 26 Oct 2025) EndedAt: 2025-10-26 15:02:21 -0400 (Sun, 26 Oct 2025) EllapsedTime: 6.0 seconds RetCode: 0 Status: OK