Package: switchBox Version: 1.46.0 Command: rm -rf switchBox.buildbin-libdir && mkdir switchBox.buildbin-libdir && /Users/biocbuild/BBS/utils/build-universal.sh switchBox_1.46.0.tar.gz /Library/Frameworks/R.framework/Resources/bin/R switchBox.buildbin-libdir StartedAt: 2025-11-18 16:31:18 -0500 (Tue, 18 Nov 2025) EndedAt: 2025-11-18 16:31:22 -0500 (Tue, 18 Nov 2025) EllapsedTime: 4.0 seconds RetCode: 0 Status: OK PackageFile: switchBox_1.46.0.tgz PackageFileSize: 643.2 KiB