Package: swfdr Version: 1.35.0 Command: /home/biocbuild/bbs-3.22-bioc/R/bin/R CMD INSTALL swfdr StartedAt: 2025-10-24 15:14:31 -0400 (Fri, 24 Oct 2025) EndedAt: 2025-10-24 15:14:56 -0400 (Fri, 24 Oct 2025) EllapsedTime: 24.5 seconds RetCode: 0 Status: OK