Package: swfdr Version: 1.36.0 Command: /home/biocbuild/bbs-3.22-bioc/R/bin/R CMD check --install=check:swfdr.install-out.txt --library=/home/biocbuild/bbs-3.22-bioc/R/site-library --timings swfdr_1.36.0.tar.gz StartedAt: 2025-11-18 09:14:07 -0500 (Tue, 18 Nov 2025) EndedAt: 2025-11-18 09:15:27 -0500 (Tue, 18 Nov 2025) EllapsedTime: 80.1 seconds RetCode: 0 Status: WARNINGS CheckDir: swfdr.Rcheck Warnings: 1