Package: swfdr Version: 1.36.0 Command: /Library/Frameworks/R.framework/Resources/bin/R CMD INSTALL swfdr StartedAt: 2025-11-17 16:52:59 -0500 (Mon, 17 Nov 2025) EndedAt: 2025-11-17 16:53:08 -0500 (Mon, 17 Nov 2025) EllapsedTime: 9.2 seconds RetCode: 0 Status: OK