Package: swfdr Version: 1.36.0 Command: /Library/Frameworks/R.framework/Resources/bin/R CMD build --keep-empty-dirs --no-resave-data swfdr StartedAt: 2025-11-18 02:47:23 -0500 (Tue, 18 Nov 2025) EndedAt: 2025-11-18 02:49:16 -0500 (Tue, 18 Nov 2025) EllapsedTime: 112.5 seconds RetCode: 0 Status: OK PackageFile: swfdr_1.36.0.tar.gz PackageFileSize: 1.203 MiB