Package: swfdr Version: 1.36.0 Command: rm -rf swfdr.buildbin-libdir && mkdir swfdr.buildbin-libdir && /Users/biocbuild/BBS/utils/build-universal.sh swfdr_1.36.0.tar.gz /Library/Frameworks/R.framework/Resources/bin/R swfdr.buildbin-libdir StartedAt: 2025-11-18 18:43:18 -0500 (Tue, 18 Nov 2025) EndedAt: 2025-11-18 18:43:27 -0500 (Tue, 18 Nov 2025) EllapsedTime: 8.1 seconds RetCode: 0 Status: OK PackageFile: swfdr_1.36.0.tgz PackageFileSize: 1.432 MiB