Package: swfdr Version: 1.35.0 Command: /Library/Frameworks/R.framework/Resources/bin/R CMD INSTALL swfdr StartedAt: 2025-10-24 15:05:00 -0400 (Fri, 24 Oct 2025) EndedAt: 2025-10-24 15:05:11 -0400 (Fri, 24 Oct 2025) EllapsedTime: 10.7 seconds RetCode: 0 Status: OK