Package: swfdr Version: 1.35.0 Command: /Library/Frameworks/R.framework/Resources/bin/R CMD build --keep-empty-dirs --no-resave-data swfdr StartedAt: 2025-10-24 17:56:01 -0400 (Fri, 24 Oct 2025) EndedAt: 2025-10-24 17:56:20 -0400 (Fri, 24 Oct 2025) EllapsedTime: 19.2 seconds RetCode: 1 Status: ERROR PackageFile: None PackageFileSize: NA