Package: swfdr Version: 1.36.0 Command: /Library/Frameworks/R.framework/Resources/bin/R CMD build --keep-empty-dirs --no-resave-data swfdr StartedAt: 2025-11-18 01:40:29 -0500 (Tue, 18 Nov 2025) EndedAt: 2025-11-18 01:40:53 -0500 (Tue, 18 Nov 2025) EllapsedTime: 24.2 seconds RetCode: 1 Status: ERROR PackageFile: None PackageFileSize: NA