Package: survcomp Version: 1.59.0 Command: /home/biocbuild/bbs-3.22-bioc/R/bin/R CMD INSTALL survcomp StartedAt: 2025-10-24 15:19:09 -0400 (Fri, 24 Oct 2025) EndedAt: 2025-10-24 15:19:23 -0400 (Fri, 24 Oct 2025) EllapsedTime: 13.9 seconds RetCode: 0 Status: OK